BEGIN:VCALENDAR
VERSION:2.0
PRODID:-//Eventin//Event Calendar//EN
CALSCALE:GREGORIAN
METHOD:PUBLISH
BEGIN:VEVENT
UID:94bbf454d0362dcee5ed3f3360bd4198@www.spieghelhuis.nl
SUMMARY:The Alt Mass
DESCRIPTION:
LOCATION:Spieghelkerk\, Bussum
DTSTAMP:20260421T085646Z
DTSTART:20260507T183000Z
DTEND:20260507T200000Z
END:VEVENT
END:VCALENDAR
