BEGIN:VCALENDAR
VERSION:2.0
PRODID:-//Eventin//Event Calendar//EN
CALSCALE:GREGORIAN
METHOD:PUBLISH
BEGIN:VEVENT
UID:44425be348cf798941e70b57ea4846eb@www.spieghelhuis.nl
SUMMARY:Pelgrimswandeling met Lotte Pen
DESCRIPTION:
LOCATION:Heidezicht\, bij het boekenhuisje\, Randweg 203\, Bussum
DTSTAMP:20260420T110104Z
DTSTART:20260607T181500Z
DTEND:20260607T194500Z
END:VEVENT
END:VCALENDAR
