BEGIN:VCALENDAR
VERSION:2.0
PRODID:-//Eventin//Event Calendar//EN
CALSCALE:GREGORIAN
METHOD:PUBLISH
BEGIN:VEVENT
UID:106c3c0ed5c86818b34584f533a4d15f@www.spieghelhuis.nl
SUMMARY:Podium Poëzie: Kopland
DESCRIPTION:Altijd al eens kennis willen maken met de poëzie van de legend
 arische Rutger Kopland\, maar geen idee waar te beginnen? Literatuurkenner 
 Leendert van der Sluijs weet raad. In anderhalf uur neemt hij je mee op rei
 s door het bijzondere oeuvre van de grootmeester. Zijn werk weet nog altijd
  te inspireren en is tijdloos in de manier waarop het de wereld even tot st
 ilstand lijkt te kunnen brengen. Kopland wist als geen ander het onzegbare 
 onder woorden te brengen. De masterclass wordt afgewisseld met prachtige mu
 ziek uitgevoerd door fluitiste Tineke Bakker en pianiste Karina Kantarova.\
 nOver Leendert van der Sluijs\nLeendert W. van der Sluijs is predikant in d
 e Protestantse Kerk en schrijft onder het pseudoniem Blaise Tolky. Hij comb
 ineert theologie\, literatuur en mystiek in korte\, filosofische teksten. A
 ls cultuurtheoloog en (web)redacteur schrijft hij voor het literaire tijdsc
 hrift Liter en onderhoudt hij het blog The Geoscope\, waar geloof en cul
 tuur in poëtische essays samenkomen.\nOver Rutger Kopland\nRudi van den Ho
 ofdakker werd bekend als dichter onder de naam Rutger Kopland. Hij was psyc
 hiater en hoogleraar biologische psychiatrie in Groningen\, maar bereikte v
 ooral het grote publiek met zijn toegankelijke\, lichte poëzie – melanch
 oliek\, subtiel en ironisch – waardoor hij uitgroeide tot Nederland’s m
 eest geliefde dichter. Hij debuteerde in 1966\, publiceerde meer dan vijfti
 en bundels en won onder andere de P.C. Hooft‑prijs (1988) en VSB‑Poë
 zieprijs (1998).
LOCATION:Spieghelkerk\, Nieuwe 's-Gravelandseweg 34\, Bussum
DTSTAMP:20260419T172640Z
DTSTART:20260609T183000Z
DTEND:20260609T200000Z
END:VEVENT
END:VCALENDAR
